BEGIN:VCALENDAR
VERSION:2.0
PRODID:-//Sabre//Sabre VObject 4.5.8//EN
CALSCALE:GREGORIAN
BEGIN:VEVENT
UID:sabre-vobject-e5e87e95-c2e9-4698-97f0-172033be7ea2
DTSTAMP:20260420T021508Z
SUMMARY:Taferlrosenkranz
DESCRIPTION:https://www2.bistum-augsburg.de/gottesdienste/taferlrosenkranz_
 id1718133
DTSTART;TZID=Europe/Berlin:20260422T190000
DURATION:PT30M
LOCATION:St. Nikolaus
END:VEVENT
END:VCALENDAR
