BEGIN:VCALENDAR
VERSION:2.0
PRODID:-//Sabre//Sabre VObject 4.5.8//EN
CALSCALE:GREGORIAN
BEGIN:VEVENT
UID:sabre-vobject-d8d518df-2153-4ff6-9fc2-de8e19a471f3
DTSTAMP:20260420T040537Z
SUMMARY:"Zeitlassn" mit Volksmusik unter der Leitung von Anita Staltmeier
DESCRIPTION:https://www2.bistum-augsburg.de/gottesdienste/zeitlassn-mit-vol
 ksmusik-unter-der-leitung-von-anita-staltmeier_id1718168
DTSTART;TZID=Europe/Berlin:20260503T190000
DURATION:PT30M
LOCATION:St. Nikolaus
END:VEVENT
END:VCALENDAR
