BEGIN:VCALENDAR
VERSION:2.0
PRODID:-//Sabre//Sabre VObject 4.5.8//EN
CALSCALE:GREGORIAN
BEGIN:VEVENT
UID:sabre-vobject-b348271b-d77a-4e0c-a91e-2e0f347d5649
DTSTAMP:20260422T142315Z
SUMMARY:Hl. Messe
DESCRIPTION:https://www2.bistum-augsburg.de/gottesdienste/hl-messe_id171822
 1
DTSTART;TZID=Europe/Berlin:20260425T083000
DURATION:PT30M
LOCATION:St. Peter und Paul\, Bahnhofstraße 1\, 87757 Kirchheim
END:VEVENT
END:VCALENDAR
