BEGIN:VCALENDAR
VERSION:2.0
PRODID:-//Sabre//Sabre VObject 4.5.8//EN
CALSCALE:GREGORIAN
BEGIN:VEVENT
UID:sabre-vobject-26a2aa7f-3d48-4e75-9707-15b5be760d2a
DTSTAMP:20260422T142312Z
SUMMARY:Hl. Messe im Sozialzentrum
DESCRIPTION:https://www2.bistum-augsburg.de/gottesdienste/hl-messe-im-sozia
 lzentrum_id1718223
DTSTART;TZID=Europe/Berlin:20260428T103000
DURATION:PT30M
LOCATION:St. Peter und Paul\, Bahnhofstraße 1\, 87757 Kirchheim
END:VEVENT
END:VCALENDAR
