BEGIN:VCALENDAR
VERSION:2.0
PRODID:-//Sabre//Sabre VObject 4.5.8//EN
CALSCALE:GREGORIAN
BEGIN:VEVENT
UID:sabre-vobject-8bb4ef76-ce93-43ee-a7a7-51cdfb23ed31
DTSTAMP:20260422T142309Z
SUMMARY:Krankenkommunion
DESCRIPTION:https://www2.bistum-augsburg.de/gottesdienste/krankenkommunion_
 id1718239
DTSTART;TZID=Europe/Berlin:20260501T090000
DURATION:PT30M
LOCATION:St. Peter und Paul\, Bahnhofstraße 1\, 87757 Kirchheim
END:VEVENT
END:VCALENDAR
