BEGIN:VCALENDAR
VERSION:2.0
PRODID:-//Sabre//Sabre VObject 4.5.8//EN
CALSCALE:GREGORIAN
BEGIN:VEVENT
UID:sabre-vobject-af80bd5e-6608-40bf-be78-f0d85cb21f06
DTSTAMP:20260423T005203Z
SUMMARY:Rosenkranz für unsere Kranken
DESCRIPTION:https://www2.bistum-augsburg.de/gottesdienste/rosenkranz-fuer-u
 nsere-kranken_id1718267
DTSTART;TZID=Europe/Berlin:20260424T160000
DURATION:PT30M
LOCATION:St. Ulrich
END:VEVENT
END:VCALENDAR
