BEGIN:VCALENDAR
VERSION:2.0
PRODID:-//Sabre//Sabre VObject 4.5.8//EN
CALSCALE:GREGORIAN
BEGIN:VEVENT
UID:sabre-vobject-bc68f766-444f-4b59-87d6-46b044aabe34
DTSTAMP:20260419T154301Z
SUMMARY:Rosenkranz
DESCRIPTION:https://www2.bistum-augsburg.de/gottesdienste/rosenkranz_id1718
 310
DTSTART;TZID=Europe/Berlin:20260424T163000
DURATION:PT30M
LOCATION:St. Valentin
END:VEVENT
END:VCALENDAR
