BEGIN:VCALENDAR
VERSION:2.0
PRODID:-//Sabre//Sabre VObject 4.5.8//EN
CALSCALE:GREGORIAN
BEGIN:VEVENT
UID:sabre-vobject-c3cc9341-aebe-4586-92cb-44a29e42b053
DTSTAMP:20260422T174330Z
SUMMARY:Festgottesdienst zum Patrozinium
DESCRIPTION:https://www2.bistum-augsburg.de/gottesdienste/festgottesdienst-
 zum-patrozinium_id1718372
DTSTART;TZID=Europe/Berlin:20260426T100000
DURATION:PT30M
LOCATION:St. Georg\, Hauptstraße 10\, 87745 Eppishausen Mörgen
END:VEVENT
END:VCALENDAR
