BEGIN:VCALENDAR
VERSION:2.0
PRODID:-//Sabre//Sabre VObject 4.5.8//EN
CALSCALE:GREGORIAN
BEGIN:VEVENT
UID:sabre-vobject-97bd886a-ede6-4b54-9470-1c770f95b401
DTSTAMP:20260420T200210Z
SUMMARY:Bibelkreis
DESCRIPTION:https://www2.bistum-augsburg.de/gottesdienste/bibelkreis_id1718
 376
DTSTART;TZID=Europe/Berlin:20260423T193000
DURATION:PT30M
LOCATION:St. Jakobus maj.
END:VEVENT
END:VCALENDAR
