BEGIN:VCALENDAR
VERSION:2.0
PRODID:-//Sabre//Sabre VObject 4.5.8//EN
CALSCALE:GREGORIAN
BEGIN:VEVENT
UID:sabre-vobject-0422f048-9b0a-4dd9-826d-777d6a9b4e53
DTSTAMP:20260422T123513Z
SUMMARY:Hl. Messe
DESCRIPTION:https://www2.bistum-augsburg.de/gottesdienste/hl-messe_id171839
 3
DTSTART;TZID=Europe/Berlin:20260430T193000
DURATION:PT30M
LOCATION:St. Stephan
END:VEVENT
END:VCALENDAR
