BEGIN:VCALENDAR
VERSION:2.0
PRODID:-//Sabre//Sabre VObject 4.5.8//EN
CALSCALE:GREGORIAN
BEGIN:VEVENT
UID:sabre-vobject-b3c4215e-d0d8-4631-8dd5-6a48039298b6
DTSTAMP:20260425T012612Z
SUMMARY:Festgottesdienst zum Patrozinium "St. Georg" in der Georgskirche
DESCRIPTION:https://www2.bistum-augsburg.de/gottesdienste/festgottesdienst-
 zum-patrozinium-st-georg-in-der-georgskirche_id1718425
DTSTART;TZID=Europe/Berlin:20260424T190000
DURATION:PT30M
LOCATION:St. Cosmas und Damian
END:VEVENT
END:VCALENDAR
