BEGIN:VCALENDAR
VERSION:2.0
PRODID:-//Sabre//Sabre VObject 4.5.8//EN
CALSCALE:GREGORIAN
BEGIN:VEVENT
UID:sabre-vobject-f83b5042-de74-4468-b406-06b7d2007001
DTSTAMP:20260422T142413Z
SUMMARY:Dankandacht der Erstkommunionkinder aus der gesamten Pfarreiengemei
 nschaft - mit Abgabe des Erstkommunionopfers -
DESCRIPTION:https://www2.bistum-augsburg.de/gottesdienste/dankandacht-der-e
 rstkommunionkinder-aus-der-gesamten-pfarreiengemeinschaft-mit-abgabe-des-e
 rstkommunionopfers_id1718438
DTSTART;TZID=Europe/Berlin:20260424T190000
DURATION:PT30M
LOCATION:St. Peter und Paul\, Bahnhofstraße 1\, 87757 Kirchheim
END:VEVENT
END:VCALENDAR
