BEGIN:VCALENDAR
VERSION:2.0
PRODID:-//Sabre//Sabre VObject 4.5.8//EN
CALSCALE:GREGORIAN
BEGIN:VEVENT
UID:sabre-vobject-3b4e3efc-333e-4c24-a6b5-75e20786279b
DTSTAMP:20260420T074513Z
SUMMARY:"Pilgern ins Herz der Stille" -  Christliche Meditation
DESCRIPTION:https://www2.bistum-augsburg.de/gottesdienste/pilgern-ins-herz-
 der-stille-christliche-meditation_id1718440
DTSTART;TZID=Europe/Berlin:20260422T190000
DURATION:PT30M
LOCATION:St. Ulrich
END:VEVENT
END:VCALENDAR
