BEGIN:VCALENDAR
VERSION:2.0
PRODID:-//Sabre//Sabre VObject 4.5.8//EN
CALSCALE:GREGORIAN
BEGIN:VEVENT
UID:sabre-vobject-0e9db0b8-7666-471b-8488-fad481a428d2
DTSTAMP:20260425T192325Z
SUMMARY:Sonntagvorabendmesse
DESCRIPTION:https://www2.bistum-augsburg.de/gottesdienste/sonntagvorabendme
 sse_id1718476
DTSTART;TZID=Europe/Berlin:20260425T180000
DURATION:PT30M
LOCATION:St. Margareta
END:VEVENT
END:VCALENDAR
