BEGIN:VCALENDAR
VERSION:2.0
PRODID:-//Sabre//Sabre VObject 4.5.8//EN
CALSCALE:GREGORIAN
BEGIN:VEVENT
UID:sabre-vobject-a32c3c3b-e932-499f-8865-29e345615540
DTSTAMP:20260420T101023Z
SUMMARY:Vorabendmesse / für die Lebenden und Verstorbenen der Pfarrgemeind
 e
DESCRIPTION:https://www2.bistum-augsburg.de/gottesdienste/vorabendmesse-fue
 r-die-lebenden-und-verstorbenen-der-pfarrgemeinde_id1718525
DTSTART;TZID=Europe/Berlin:20260418T191500
DURATION:PT30M
LOCATION:St. Peter und Paul
END:VEVENT
END:VCALENDAR
