BEGIN:VCALENDAR
VERSION:2.0
PRODID:-//Sabre//Sabre VObject 4.5.8//EN
CALSCALE:GREGORIAN
BEGIN:VEVENT
UID:sabre-vobject-a6053741-b0a4-4fd6-bfa3-35fcbedaa9f6
DTSTAMP:20260422T155706Z
SUMMARY:Heilige Messe
DESCRIPTION:https://www2.bistum-augsburg.de/gottesdienste/heilige-messe_id1
 718600
DTSTART;TZID=Europe/Berlin:20260421T183000
DURATION:PT30M
LOCATION:St. Michael
END:VEVENT
END:VCALENDAR
