BEGIN:VCALENDAR
VERSION:2.0
PRODID:-//Sabre//Sabre VObject 4.5.8//EN
CALSCALE:GREGORIAN
BEGIN:VEVENT
UID:sabre-vobject-d8ae68bc-ab4d-4cb8-8c3d-d1d74a3375f4
DTSTAMP:20260425T192347Z
SUMMARY:Abendmesse
DESCRIPTION:https://www2.bistum-augsburg.de/gottesdienste/abendmesse_id1718
 610
DTSTART;TZID=Europe/Berlin:20260428T190000
DURATION:PT30M
LOCATION:Expositur Maria Immaculata
END:VEVENT
END:VCALENDAR
