BEGIN:VCALENDAR
VERSION:2.0
PRODID:-//Sabre//Sabre VObject 4.5.8//EN
CALSCALE:GREGORIAN
BEGIN:VEVENT
UID:sabre-vobject-01cbe4a3-e465-4bed-a91a-e96428e425d0
DTSTAMP:20260424T140031Z
SUMMARY:Taufe von Johannes Rau
DESCRIPTION:https://www2.bistum-augsburg.de/gottesdienste/taufe-von-johanne
 s-rau_id1718624
DTSTART;TZID=Europe/Berlin:20260426T113000
DURATION:PT30M
LOCATION:St. Georg\, Bubesheimer Str. 8\, 89346 Schneckenhofen
END:VEVENT
END:VCALENDAR
