BEGIN:VCALENDAR
VERSION:2.0
PRODID:-//Sabre//Sabre VObject 4.5.8//EN
CALSCALE:GREGORIAN
BEGIN:VEVENT
UID:sabre-vobject-f1cd9b8b-5062-460a-8f36-7dc2bad298f4
DTSTAMP:20260424T111704Z
SUMMARY:Pfarrgottesdienst
DESCRIPTION:https://www2.bistum-augsburg.de/gottesdienste/pfarrgottesdienst
 _id1718626
DTSTART;TZID=Europe/Berlin:20260426T083000
DURATION:PT30M
LOCATION:Expositur Maria Immaculata
END:VEVENT
END:VCALENDAR
