BEGIN:VCALENDAR
VERSION:2.0
PRODID:-//Sabre//Sabre VObject 4.5.8//EN
CALSCALE:GREGORIAN
BEGIN:VEVENT
UID:sabre-vobject-dfbd8bb6-f801-43d7-8d2c-763034ead527
DTSTAMP:20260424T112955Z
SUMMARY:Hl. Messe mit den Kommunionkinder\; anschl. Ausflug nach Bonlanden
DESCRIPTION:https://www2.bistum-augsburg.de/gottesdienste/hl-messe-mit-den-
 kommunionkinder-anschl-ausflug-nach-bonlanden_id1718767
DTSTART;TZID=Europe/Berlin:20260424T081500
DURATION:PT30M
LOCATION:St. Jakobus maj.\, Marktplatz 11\, 87733 Markt Rettenbach
END:VEVENT
END:VCALENDAR
