BEGIN:VCALENDAR
VERSION:2.0
PRODID:-//Sabre//Sabre VObject 4.5.8//EN
CALSCALE:GREGORIAN
BEGIN:VEVENT
UID:sabre-vobject-7a3544c3-117f-4ada-a7a0-768544025729
DTSTAMP:20260424T163940Z
SUMMARY:Bibelgespräch im Pfarrheim
DESCRIPTION:https://www2.bistum-augsburg.de/gottesdienste/bibelgespraech-im
 -pfarrheim_id1718815
DTSTART;TZID=Europe/Berlin:20260424T200000
DURATION:PT30M
LOCATION:St. Ulrich
END:VEVENT
END:VCALENDAR
