BEGIN:VCALENDAR
VERSION:2.0
PRODID:-//Sabre//Sabre VObject 4.5.8//EN
CALSCALE:GREGORIAN
BEGIN:VEVENT
UID:sabre-vobject-65a7d8be-50c3-43aa-8c5f-b597757d3479
DTSTAMP:20260425T030153Z
SUMMARY:"Feldmesse" zu Pfingsten an der Kapelle "St. Bartholomäus" Zell \n
 (musikalische Gestaltung: "Mir Zwoi")
DESCRIPTION:https://www2.bistum-augsburg.de/gottesdienste/feldmesse-zu-pfin
 gsten-an-der-kapelle-st-bartholomaeus-zell-musikalische-gestaltung-mir-zwo
 i_id1718963
DTSTART;TZID=Europe/Berlin:20260525T160000
DURATION:PT30M
LOCATION:St. Peter und Paul
END:VEVENT
END:VCALENDAR
