BEGIN:VCALENDAR
VERSION:2.0
PRODID:-//Sabre//Sabre VObject 4.5.8//EN
CALSCALE:GREGORIAN
BEGIN:VEVENT
UID:sabre-vobject-1f487559-9811-4773-ab1d-23823337b32f
DTSTAMP:20260425T192326Z
SUMMARY:Erste feierliche Maiandacht mit dem Kirchenchor
DESCRIPTION:https://www2.bistum-augsburg.de/gottesdienste/erste-feierliche-
 maiandacht-mit-dem-kirchenchor_id1719099
DTSTART;TZID=Europe/Berlin:20260501T190000
DURATION:PT30M
LOCATION:St. Joseph
END:VEVENT
END:VCALENDAR
