BEGIN:VCALENDAR
VERSION:2.0
PRODID:-//Sabre//Sabre VObject 4.5.8//EN
CALSCALE:GREGORIAN
BEGIN:VEVENT
UID:sabre-vobject-ec137a7e-64db-4e79-8131-40cab07e1107
DTSTAMP:20260422T155716Z
SUMMARY:Familiengottesdienst
DESCRIPTION:https://www2.bistum-augsburg.de/gottesdienste/familiengottesdie
 nst_id1719102
DTSTART;TZID=Europe/Berlin:20260503T103000
DURATION:PT30M
LOCATION:St. Joseph
END:VEVENT
END:VCALENDAR
