BEGIN:VCALENDAR
VERSION:2.0
PRODID:-//Sabre//Sabre VObject 4.5.8//EN
CALSCALE:GREGORIAN
BEGIN:VEVENT
UID:sabre-vobject-39e9d084-c68a-4853-b9aa-8ab94b6fcda4
DTSTAMP:20260424T225314Z
SUMMARY:Beichtgelegenheit in der Kapelle und Rosenkranz in der Kirche
DESCRIPTION:https://www2.bistum-augsburg.de/gottesdienste/beichtgelegenheit
 -in-der-kapelle-und-rosenkranz-in-der-kirche_id1719153
DTSTART;TZID=Europe/Berlin:20260503T083000
DURATION:PT30M
LOCATION:Maria Hilf
END:VEVENT
END:VCALENDAR
