BEGIN:VCALENDAR
VERSION:2.0
PRODID:-//Sabre//Sabre VObject 4.5.8//EN
CALSCALE:GREGORIAN
BEGIN:VEVENT
UID:sabre-vobject-faeba2f3-fbf0-4e82-8bbc-687a8c30c32e
DTSTAMP:20260424T115854Z
SUMMARY:Rosenkranz
DESCRIPTION:https://www2.bistum-augsburg.de/gottesdienste/rosenkranz_id1719
 155
DTSTART;TZID=Europe/Berlin:20260506T083000
DURATION:PT30M
LOCATION:Maria Hilf
END:VEVENT
END:VCALENDAR
