BEGIN:VCALENDAR
VERSION:2.0
PRODID:-//Sabre//Sabre VObject 4.5.8//EN
CALSCALE:GREGORIAN
BEGIN:VEVENT
UID:sabre-vobject-f71636e6-08d6-4c96-a6e0-0783fb170875
DTSTAMP:20260423T124101Z
SUMMARY:Hl. Messe\, anschl. stille Anbetung bis Donnerstag\, 08.00 Uhr (im 
 Kloster)
DESCRIPTION:https://www2.bistum-augsburg.de/gottesdienste/hl-messe-anschl-s
 tille-anbetung-bis-donnerstag-08-00-uhr-im-kloster_id1719181
DTSTART;TZID=Europe/Berlin:20260506T090000
DURATION:PT30M
LOCATION:Maria Hilf
END:VEVENT
END:VCALENDAR
