BEGIN:VCALENDAR
VERSION:2.0
PRODID:-//Sabre//Sabre VObject 4.5.8//EN
CALSCALE:GREGORIAN
BEGIN:VEVENT
UID:sabre-vobject-387b8bf4-dfa3-4277-9a8b-4c11611b849e
DTSTAMP:20260424T234100Z
SUMMARY:Rosenkranz
DESCRIPTION:https://www2.bistum-augsburg.de/gottesdienste/rosenkranz_id1719
 186
DTSTART;TZID=Europe/Berlin:20260507T183000
DURATION:PT30M
LOCATION:St. Martin\, Jahnstraße 1\, 86836 Lagerlechfeld
END:VEVENT
END:VCALENDAR
