BEGIN:VCALENDAR
VERSION:2.0
PRODID:-//Sabre//Sabre VObject 4.5.8//EN
CALSCALE:GREGORIAN
BEGIN:VEVENT
UID:sabre-vobject-e7984e3f-93b0-4e19-bd4d-fb2d3e6f43ba
DTSTAMP:20260424T155429Z
SUMMARY:Hl. Messe
DESCRIPTION:https://www2.bistum-augsburg.de/gottesdienste/hl-messe_id171918
 7
DTSTART;TZID=Europe/Berlin:20260507T190000
DURATION:PT30M
LOCATION:St. Martin\, Jahnstraße 1\, 86836 Lagerlechfeld
END:VEVENT
END:VCALENDAR
