BEGIN:VCALENDAR
VERSION:2.0
PRODID:-//Sabre//Sabre VObject 4.5.8//EN
CALSCALE:GREGORIAN
BEGIN:VEVENT
UID:sabre-vobject-eb5e908e-a255-4e3a-a713-7bc011d04b67
DTSTAMP:20260420T021507Z
SUMMARY:Patrozinium
DESCRIPTION:https://www2.bistum-augsburg.de/gottesdienste/patrozinium_id171
 9190
DTSTART;TZID=Europe/Berlin:20260422T191500
DURATION:PT30M
LOCATION:St. Martin
END:VEVENT
END:VCALENDAR
