BEGIN:VCALENDAR
VERSION:2.0
PRODID:-//Sabre//Sabre VObject 4.5.8//EN
CALSCALE:GREGORIAN
BEGIN:VEVENT
UID:sabre-vobject-85871f5e-4d8e-49b3-9075-0b573eec7785
DTSTAMP:20260422T104849Z
SUMMARY:Anbetung und Rosenkranz
DESCRIPTION:https://www2.bistum-augsburg.de/gottesdienste/anbetung-und-rose
 nkranz_id1719215
DTSTART;TZID=Europe/Berlin:20260508T181500
DURATION:PT30M
LOCATION:St. Mauritius
END:VEVENT
END:VCALENDAR
