BEGIN:VCALENDAR
VERSION:2.0
PRODID:-//Sabre//Sabre VObject 4.5.8//EN
CALSCALE:GREGORIAN
BEGIN:VEVENT
UID:sabre-vobject-b31d347c-1e1d-4b84-a1ab-35e8f47cf21f
DTSTAMP:20260422T155717Z
SUMMARY:"Dein Angesicht\, HERR\, will ich suchen" (Ps 27\,8). Eucharistisch
 e Anbetung mit Stille\, Impuls und schöner Musik.
DESCRIPTION:https://www2.bistum-augsburg.de/gottesdienste/dein-angesicht-he
 rr-will-ich-suchen-ps-27-8-eucharistische-anbetung-mit-stille-impuls-und-s
 choener-musik_id1719302
DTSTART;TZID=Europe/Berlin:20260424T190000
DURATION:PT30M
LOCATION:St. Oswald
END:VEVENT
END:VCALENDAR
