BEGIN:VCALENDAR
VERSION:2.0
PRODID:-//Sabre//Sabre VObject 4.5.8//EN
CALSCALE:GREGORIAN
BEGIN:VEVENT
UID:sabre-vobject-6a194986-646b-406f-8723-24483c480455
DTSTAMP:20260420T040314Z
SUMMARY:Feier der Ersten Heiligen Kommunion (musikalische Gestaltung: Kirch
 enchor Steibis/Aach)
DESCRIPTION:https://www2.bistum-augsburg.de/gottesdienste/feier-der-ersten-
 heiligen-kommunion-musikalische-gestaltung-kirchenchor-steibis-aach_id1719
 664
DTSTART;TZID=Europe/Berlin:20260503T100000
DURATION:PT30M
LOCATION:Maria Schnee
END:VEVENT
END:VCALENDAR
