BEGIN:VCALENDAR
VERSION:2.0
PRODID:-//Sabre//Sabre VObject 4.5.8//EN
CALSCALE:GREGORIAN
BEGIN:VEVENT
UID:sabre-vobject-1354cf17-91f4-4c08-a47d-e27c31537502
DTSTAMP:20260422T211830Z
SUMMARY:Rosenkranzgebet
DESCRIPTION:https://www2.bistum-augsburg.de/gottesdienste/rosenkranzgebet_i
 d1719737
DTSTART;TZID=Europe/Berlin:20260503T095500
DURATION:PT30M
LOCATION:St. Verena
END:VEVENT
END:VCALENDAR
