BEGIN:VCALENDAR
VERSION:2.0
PRODID:-//Sabre//Sabre VObject 4.5.8//EN
CALSCALE:GREGORIAN
BEGIN:VEVENT
UID:sabre-vobject-437da0eb-dfc3-41ed-b7be-dba0da91c724
DTSTAMP:20260420T002135Z
SUMMARY:Kinderkirche im Pfarrheim
DESCRIPTION:https://www2.bistum-augsburg.de/gottesdienste/kinderkirche-im-p
 farrheim_id1719769
DTSTART;TZID=Europe/Berlin:20260426T100000
DURATION:PT30M
LOCATION:St. Peter und Paul
END:VEVENT
END:VCALENDAR
