BEGIN:VCALENDAR
VERSION:2.0
PRODID:-//Sabre//Sabre VObject 4.5.8//EN
CALSCALE:GREGORIAN
BEGIN:VEVENT
UID:sabre-vobject-b796c540-7544-479b-a0d8-d9ba5d2e32a0
DTSTAMP:20260423T174344Z
SUMMARY:Kindergottesdienst in der kath. Kirche
DESCRIPTION:https://www2.bistum-augsburg.de/gottesdienste/kindergottesdiens
 t-in-der-kath-kirche_id1719778
DTSTART;TZID=Europe/Berlin:20260426T103000
DURATION:PT30M
LOCATION:St. Peter und Paul
END:VEVENT
END:VCALENDAR
