BEGIN:VCALENDAR
VERSION:2.0
PRODID:-//Sabre//Sabre VObject 4.5.8//EN
CALSCALE:GREGORIAN
BEGIN:VEVENT
UID:sabre-vobject-9ff88b7d-fd15-4ed4-ad9c-7cfad2b521b5
DTSTAMP:20260424T185505Z
SUMMARY:Abendmesse in Schwaighausen
DESCRIPTION:https://www2.bistum-augsburg.de/gottesdienste/abendmesse-in-sch
 waighausen_id1719782
DTSTART;TZID=Europe/Berlin:20260424T190000
DURATION:PT30M
LOCATION:St. Georg
END:VEVENT
END:VCALENDAR
