BEGIN:VCALENDAR
VERSION:2.0
PRODID:-//Sabre//Sabre VObject 4.5.8//EN
CALSCALE:GREGORIAN
BEGIN:VEVENT
UID:sabre-vobject-49cbd6b2-83f3-4c9f-8626-c0c049e009cd
DTSTAMP:20260425T164841Z
SUMMARY:Feier der Erstkommunion mit den Kindern aus Lachen u. Benningen
DESCRIPTION:https://www2.bistum-augsburg.de/gottesdienste/feier-der-erstkom
 munion-mit-den-kindern-aus-lachen-u-benningen_id1719789
DTSTART;TZID=Europe/Berlin:20260426T103000
DURATION:PT30M
LOCATION:St. Afra\, Kirchstraße 13\, 87760 Lachen
END:VEVENT
END:VCALENDAR
