BEGIN:VCALENDAR
VERSION:2.0
PRODID:-//Sabre//Sabre VObject 4.5.8//EN
CALSCALE:GREGORIAN
BEGIN:VEVENT
UID:sabre-vobject-6c6c0b8c-04f1-46b4-86af-d34b1b39499e
DTSTAMP:20260423T160014Z
SUMMARY:Dankgottesdienst zur Goldenen Hochzeit von Fam. Bachmann
DESCRIPTION:https://www2.bistum-augsburg.de/gottesdienste/dankgottesdienst-
 zur-goldenen-hochzeit-von-fam-bachmann_id1719806
DTSTART;TZID=Europe/Berlin:20260425T110000
DURATION:PT30M
LOCATION:St. Johannes Baptist
END:VEVENT
END:VCALENDAR
