BEGIN:VCALENDAR
VERSION:2.0
PRODID:-//Sabre//Sabre VObject 4.5.8//EN
CALSCALE:GREGORIAN
BEGIN:VEVENT
UID:sabre-vobject-43b5f027-b172-4184-b0df-554a82240cce
DTSTAMP:20260420T133923Z
SUMMARY:Rosenkranz um Frieden
DESCRIPTION:https://www2.bistum-augsburg.de/gottesdienste/rosenkranz-um-fri
 eden_id1719844
DTSTART;TZID=Europe/Berlin:20260423T191500
DURATION:PT30M
LOCATION:St. Agatha
END:VEVENT
END:VCALENDAR
