BEGIN:VCALENDAR
VERSION:2.0
PRODID:-//Sabre//Sabre VObject 4.5.8//EN
CALSCALE:GREGORIAN
BEGIN:VEVENT
UID:sabre-vobject-c9e1c6ea-cdf4-4385-a3fa-762038b35234
DTSTAMP:20260420T133922Z
SUMMARY:Hl. Messe (mit den EK Kindern)
DESCRIPTION:https://www2.bistum-augsburg.de/gottesdienste/hl-messe-mit-den-
 ek-kindern_id1719875
DTSTART;TZID=Europe/Berlin:20260423T191500
DURATION:PT30M
LOCATION:St. Afra\, Dorfstraße 15\, 82447 Spatzenhausen 
END:VEVENT
END:VCALENDAR
