BEGIN:VCALENDAR
VERSION:2.0
PRODID:-//Sabre//Sabre VObject 4.5.8//EN
CALSCALE:GREGORIAN
BEGIN:VEVENT
UID:sabre-vobject-604874a0-542d-4ee5-ada0-d8c84c057b3c
DTSTAMP:20260425T003422Z
SUMMARY:Hl. Messe in St. Bartholomäus
DESCRIPTION:https://www2.bistum-augsburg.de/gottesdienste/hl-messe-in-st-ba
 rtholomaeus_id1719910
DTSTART;TZID=Europe/Berlin:20260512T190000
DURATION:PT30M
LOCATION:Herz Mariä
END:VEVENT
END:VCALENDAR
