BEGIN:VCALENDAR
VERSION:2.0
PRODID:-//Sabre//Sabre VObject 4.5.8//EN
CALSCALE:GREGORIAN
BEGIN:VEVENT
UID:sabre-vobject-68b59944-4d26-45ad-97e5-f1be2073bc63
DTSTAMP:20260423T205033Z
SUMMARY:Heilige Messe m. Maiandacht
DESCRIPTION:https://www2.bistum-augsburg.de/gottesdienste/heilige-messe-m-m
 aiandacht_id1719941
DTSTART;TZID=Europe/Berlin:20260503T103000
DURATION:PT30M
LOCATION:St. Johannes Baptist\, Thalhauser Straße 1\, 86576 Aufhausen
END:VEVENT
END:VCALENDAR
