BEGIN:VCALENDAR
VERSION:2.0
PRODID:-//Sabre//Sabre VObject 4.5.8//EN
CALSCALE:GREGORIAN
BEGIN:VEVENT
UID:sabre-vobject-d29c18a5-896f-4be0-abab-4177b2813345
DTSTAMP:20260422T090330Z
SUMMARY:Kommunionunterricht im Pfarrkeller
DESCRIPTION:https://www2.bistum-augsburg.de/gottesdienste/kommunionunterric
 ht-im-pfarrkeller_id1719970
DTSTART;TZID=Europe/Berlin:20260502T150000
DURATION:PT30M
LOCATION:St. Maria Magdalena
END:VEVENT
END:VCALENDAR
