BEGIN:VCALENDAR
VERSION:2.0
PRODID:-//Sabre//Sabre VObject 4.5.8//EN
CALSCALE:GREGORIAN
BEGIN:VEVENT
UID:sabre-vobject-eceedb11-8258-4bef-b6c5-d391a2641e36
DTSTAMP:20260425T152946Z
SUMMARY:Heilige Messe
DESCRIPTION:https://www2.bistum-augsburg.de/gottesdienste/heilige-messe_id1
 719972
DTSTART;TZID=Europe/Berlin:20260503T080000
DURATION:PT30M
LOCATION:St. Maria Magdalena
END:VEVENT
END:VCALENDAR
