BEGIN:VCALENDAR
VERSION:2.0
PRODID:-//Sabre//Sabre VObject 4.5.8//EN
CALSCALE:GREGORIAN
BEGIN:VEVENT
UID:sabre-vobject-0496d9f0-14cc-4d09-8909-3f8538229780
DTSTAMP:20260424T121031Z
SUMMARY:Hl. Messe in Ussenburg\, anschl. Rosenkranz
DESCRIPTION:https://www2.bistum-augsburg.de/gottesdienste/hl-messe-in-ussen
 burg-anschl-rosenkranz_id1719982
DTSTART;TZID=Europe/Berlin:20260429T193000
DURATION:PT30M
LOCATION:Zu den Hl. fünf Wunden\, August-Geier-Straße 1\, 87669 Rieden
END:VEVENT
END:VCALENDAR
