BEGIN:VCALENDAR
VERSION:2.0
PRODID:-//Sabre//Sabre VObject 4.5.8//EN
CALSCALE:GREGORIAN
BEGIN:VEVENT
UID:sabre-vobject-2c87b86a-8712-47d6-8e5a-385f0dbb9991
DTSTAMP:20260423T175249Z
SUMMARY:Pfarrgottesdienst
DESCRIPTION:https://www2.bistum-augsburg.de/gottesdienste/pfarrgottesdienst
 _id1719986
DTSTART;TZID=Europe/Berlin:20260503T103000
DURATION:PT30M
LOCATION:Zu den Hl. fünf Wunden\, August-Geier-Straße 1\, 87669 Rieden
END:VEVENT
END:VCALENDAR
