BEGIN:VCALENDAR
VERSION:2.0
PRODID:-//Sabre//Sabre VObject 4.5.8//EN
CALSCALE:GREGORIAN
BEGIN:VEVENT
UID:sabre-vobject-298eb28e-1c62-494c-bc2d-8b6f857bd5c7
DTSTAMP:20260422T174324Z
SUMMARY:Fußwallfahrt nach "Maria Hilf" Speiden\, dort 10.00 Uhr hl. Messe
DESCRIPTION:https://www2.bistum-augsburg.de/gottesdienste/fusswallfahrt-nac
 h-maria-hilf-speiden-dort-10-00-uhr-hl-messe_id1720004
DTSTART;TZID=Europe/Berlin:20260501T070000
DURATION:PT30M
LOCATION:St. Andreas
END:VEVENT
END:VCALENDAR
