BEGIN:VCALENDAR
VERSION:2.0
PRODID:-//Sabre//Sabre VObject 4.5.8//EN
CALSCALE:GREGORIAN
BEGIN:VEVENT
UID:sabre-vobject-05c40dc1-6d4f-45d5-973e-b3b1d6595cc6
DTSTAMP:20260420T055721Z
SUMMARY:Rosenkranz
DESCRIPTION:https://www2.bistum-augsburg.de/gottesdienste/rosenkranz_id1720
 007
DTSTART;TZID=Europe/Berlin:20260503T163000
DURATION:PT30M
LOCATION:St. Andreas
END:VEVENT
END:VCALENDAR
