BEGIN:VCALENDAR
VERSION:2.0
PRODID:-//Sabre//Sabre VObject 4.5.8//EN
CALSCALE:GREGORIAN
BEGIN:VEVENT
UID:sabre-vobject-a290a354-7beb-431a-b9b6-25fb7e008823
DTSTAMP:20260424T121040Z
SUMMARY:Rosenkranz und Osterbeichtgelegenheit in Sameister
DESCRIPTION:https://www2.bistum-augsburg.de/gottesdienste/rosenkranz-und-os
 terbeichtgelegenheit-in-sameister_id1720008
DTSTART;TZID=Europe/Berlin:20260430T190000
DURATION:PT30M
LOCATION:Kapelle Mariä Sieben Schmerzen\, Sameister 10\, 87672 Roßhaupten
END:VEVENT
END:VCALENDAR
